Workbook

Sheet Skaičiavimai
A1: Įmonė užsiima plieno prekyba Lietuvoje ir EU.
A2: Uždavinys:
A3: 1) Pasirinkti tinkamiausią tiekėją
A4: 2) Įvertinti pardavimų pelningumą EU ir Lietuvos rinkose
A6: a) Plieno pirkimo kaina lt už toną iš PVM mokėtojo(su PVM) | E6: 1800 | F6: Sumai tenkanti PVM dalis | H6: =E6-(E6/1.21) -> 312.39669
A7: b) Plieno pirkimo kaina iš EU (ne PVM mokėtojo) | E7: 1800
A8: Galutinė pardavimo kaina | E8: 2500
A9: Pirkto plieno kiekis t. | E9: 10
A12: 1 variantas visas pirktas plienas parduotas Lietuvos rinkoje
A13: =IF(C13>0,"Viso gautino PVM","Viso mokėtino PVM") -> Viso mokėtino PVM | C13: =E9*H6-(E8*E9-(E9*E8/1.21)) -> -1214.876
A14: a) | B14: =IF(C14>0,"Apmokestinamasis pelnas","Nuostolis") -> Apmokestinamasis pelnas | C14: =(E9*E8/1.21)-(E9*E6/1.21) -> 5785.124 | D14: Pelno mokestis | E14: =IF(C14>0,C14*15%,0) -> 867.7686
B15: Uždarbis | C15: =E9*E8-E9*E6-E14+C13 -> 4917.3554
A17: b) | B17: Viso mokėtino pvm | C17: =E9*E8-(E9*E8/1.21) -> 4338.843
B18: =IF(C18>0,"Apmokestinamasis pelnas","Nuostolis") -> Apmokestinamasis pelnas | C18: =E9*E8-E9*E7 -> 7000 | D18: Pelno mokestis | E18: =IF(C18>0,C18*15%,0) -> 1050
B19: Uždarbis | C19: =E9*E8-E9*E7-E18-C17 -> 1611.157
A21: 2 variantas visas pirktas plienas parduotas EU
A22: Viso gautino PVM | C22: =E9*H6 -> 3123.9669
A23: a) | B23: =IF(C23>0,"Apmokestinamasis pelnas","Nuostolis") -> Apmokestinamasis pelnas | C23: =E9*E8-(E9*E6/1.21) -> 10123.967 | D23: Pelno mokestis | E23: =IF(C23>0,C23*15%,0) -> 1518.595
B24: Uždarbis | C24: =E9*E8-(E9*E6/1.21)-E23 -> 8605.3719
A26: b) | B26: =IF(C23>0,"Apmokestinamasis pelnas","Nuostolis") -> Apmokestinamasis pelnas | C26: =E9*E8-E9*E7 -> 7000 | D26: Pelno mokestis | E26: =IF(C26>0,C26*15%,0) -> 1050
B27: Uždarbis | C27: =E9*E8-E9*E7-E26 -> 5950
B29: Lietuvoje parduota t | C29: 5
B30: Europoje parduota t | C30: 5
B32: a) Pirkta LT
A33: =IF(C33>0,"Viso gautino PVM","Viso mokėtino PVM") -> Viso gautino PVM | C33: =E9*H6-(C29*E8-(C29*E8/1.21)) -> 954.54545
B34: =IF(C34>0,"Apmokestinamasis pelnas","Nuostolis") -> Apmokestinamasis pelnas | C34: =(C29*E8/1.21)+C30*E8-(C29+C30)*E6/1.21 -> 7954.5455 | D34: Pelno mokestis | E34: =IF(C34>0,C34*15%,0) -> 1193.1818
B35: Uždarbis | C35: =(C29+C30)*E8-E9*E6-E34+C33 -> 6761.3636
B37: b) Pirkta EU
B38: Viso mokėtino PVM | C38: =C29*E8-(C29*E8/1.21) -> 2169.4215
B39: =IF(C34>0,"Apmokestinamasis pelnas","Nuostolis") -> Apmokestinamasis pelnas | C39: =(C29*E8)/1.21+(C30*E8)-(E9*E7) -> 4830.5785 | D39: Pelno mokestis | E39: =IF(C39>0,C39*15%,0) -> 724.58678
B40: Uždarbis | C40: =(C29+C30)*E8-E9*E7-E39-C38 -> 4105.9917

Sheet Grafikas
A32: Pir LT par LT | B32: =Skaičiavimai!C15 -> 4917.3554
A33: Pir EU par LT | B33: =Skaičiavimai!C19 -> 1611.157
A34: Pir LT par EU | B34: =Skaičiavimai!C24 -> 8605.3719
A35: Pir EU par EU | B35: =Skaičiavimai!C27 -> 5950

Sheet Grafikas2
A1: Pirkta Lietuvoje | B1: =Skaičiavimai!C35 -> 6761.3636
A2: Pirkta EU | B2: =Skaičiavimai!C40 -> 4105.9917
